BEGIN:VCALENDAR
VERSION:2.0
PRODID:-//Musical Bingo - ECPv5.0.2.1//NONSGML v1.0//EN
CALSCALE:GREGORIAN
METHOD:PUBLISH
X-WR-CALNAME:Musical Bingo
X-ORIGINAL-URL:https://musicalbingo.co.uk
X-WR-CALDESC:Events for Musical Bingo
BEGIN:VTIMEZONE
TZID:UTC
BEGIN:STANDARD
TZOFFSETFROM:+0000
TZOFFSETTO:+0000
TZNAME:UTC
DTSTART:20230101T000000
END:STANDARD
END:VTIMEZONE
BEGIN:VEVENT
DTSTART;TZID=UTC:20231026T183000
DTEND;TZID=UTC:20231026T220000
DTSTAMP:20260421T025431
CREATED:20230801T142431Z
LAST-MODIFIED:20231009T113916Z
UID:3430-1698345000-1698357600@musicalbingo.co.uk
SUMMARY:Musical Bingo: Fab - Boo - Lous Tour - Soho
DESCRIPTION:🎃👻🎶 Introducing Musical Bingo’s Fab-boo-lous Tour! 🎶👻🎃\n📣 Get ready for a spine-tingling and ghoulishly good time as we bring you the most hauntingly entertaining event of the season! It’s time to dust off your broomsticks and don your spookiest costumes because Musical Bingo is back with a wicked twist. Join us for a Halloween-themed bingo extravaganza like no other! \n🎉 What to Expect: 👻 A bone-chillingly fun night of musical bingo with a Halloween twist. 🎶 Spooky tunes and eerie melodies to keep you entertained. 🕷️ Fang-tastic prizes for the best-dressed witches\, wizards\, and monsters. 💀 Devilishly delicious food and drinks available for purchase. 🍬 Trick or treat surprises throughout the evening. 🎁 Prizes for bingo winners\, including some fa-boo-lous surprises! \n👗🧙‍♀️🧛‍♂️ Costumes Encouraged! 👻👹🧟‍♀️ \n  \n*** DANCE OFFS\, CONFETTI SHOWERS\, LIVE DJs\, MASSIVE TUNES AND COMEDIAN HOSTS *** It’s just like regular bingo\, but instead of shouting out numbers\, we play songs! Each round takes on a different theme of song choices\, these could be based on either a decade\, genre\, or just a random quirky topic. Unique cards are handed out whilst one of the fabulously entertaining compere’s introduce the rules and the prizes. Then it’s over to the DJs as they spin a quick fire medley of tunes while players simply mark ‘em of their bingo cards accordingly. Prizes are won for one\, two\, and three lines\, and finally the Grand Prize: The Full House! Oh\, and If that wasn’t enough excitement already\, then you can also expect some other little twists along the way\, like the ‘multi choice mystery boxes’\, and the chance to gamble your grand Prize winnings on the ‘Killer Question’ What will you decide to do? \n  \nDoors from 6.30pm| Show 7.30pm – 10.00pm \n
URL:https://musicalbingo.co.uk/index.php/event/musical-bingo-soho-6/
LOCATION:The Flamingo Room\, O'Neill's 33-37 Wardour Street\, London\, W1D 6PU
ATTACH;FMTTYPE=image/jpeg:https://musicalbingo.co.uk/wp-content/uploads/2023/08/20131031-XJF02746.jpg
END:VEVENT
END:VCALENDAR