BEGIN:VCALENDAR
VERSION:2.0
PRODID:-//Musical Bingo - ECPv5.0.2.1//NONSGML v1.0//EN
CALSCALE:GREGORIAN
METHOD:PUBLISH
X-WR-CALNAME:Musical Bingo
X-ORIGINAL-URL:https://musicalbingo.co.uk
X-WR-CALDESC:Events for Musical Bingo
BEGIN:VTIMEZONE
TZID:UTC
BEGIN:STANDARD
TZOFFSETFROM:+0000
TZOFFSETTO:+0000
TZNAME:UTC
DTSTART:20240101T000000
END:STANDARD
END:VTIMEZONE
BEGIN:VEVENT
DTSTART;TZID=UTC:20240504T130000
DTEND;TZID=UTC:20240504T160000
DTSTAMP:20260419T223643
CREATED:20240328T134936Z
LAST-MODIFIED:20240328T134936Z
UID:4143-1714827600-1714838400@musicalbingo.co.uk
SUMMARY:Musical Bingo: Silent Disco Trail - City of London
DESCRIPTION:Embark on a bingo infused musical journey through the City of London\, where famous sites meet melodies\, and landmarks become stages for your musical adventure. On the tour you can expect to see iconic landmarks such as Tower Bridge\, The Bank of England and The Gherkin\, all whilst you groove to hits like Y.M.C.A and The Macarena! \nSimply pop your headphones on\, mark off the songs\, and have a dance!  \nStarting and ending at Dabbers Social Bingo our marvellous host will guide you through  \nMusical Bingo as well as take you on a walking tour of the City of London. Undoubtedly there’ll be plenty of mayhem\, gags and debauchery on the way…and of course prizes! \nUpon your return to Dabbers Social Bingo you’ll be spoilt with a complimentary cocktail to celebrate your adventure. \nThe walking part of the tour is from 2pm-3pm\, however you are welcome to come to   \nDabbers Social Bingo at 1pm to have some drinks beforehand as well as stay afterwards. Prizes are awarded after the walk.  \n\n
URL:https://musicalbingo.co.uk/index.php/event/musical-bingo-silent-disco-trail-city-of-london-4/
LOCATION:Dabbers City\, 18 - 22 Houndsditch\, Aldgate\, London\, EC3A 7DB\, United Kingdom
ATTACH;FMTTYPE=image/jpeg:https://musicalbingo.co.uk/wp-content/uploads/2024/03/IMG_0598-scaled.jpg
END:VEVENT
END:VCALENDAR