BEGIN:VCALENDAR
VERSION:2.0
PRODID:-//Musical Bingo - ECPv5.0.2.1//NONSGML v1.0//EN
CALSCALE:GREGORIAN
METHOD:PUBLISH
X-WR-CALNAME:Musical Bingo
X-ORIGINAL-URL:https://musicalbingo.co.uk
X-WR-CALDESC:Events for Musical Bingo
BEGIN:VTIMEZONE
TZID:UTC
BEGIN:STANDARD
TZOFFSETFROM:+0000
TZOFFSETTO:+0000
TZNAME:UTC
DTSTART:20240101T000000
END:STANDARD
END:VTIMEZONE
BEGIN:VEVENT
DTSTART;TZID=UTC:20240525T120000
DTEND;TZID=UTC:20240525T160000
DTSTAMP:20260421T085640
CREATED:20231117T101932Z
LAST-MODIFIED:20240307T143520Z
UID:3794-1716638400-1716652800@musicalbingo.co.uk
SUMMARY:MUSICAL BINGO: Bottomless BRUNCH - HACKNEY
DESCRIPTION:Doors open at 12.30 PM |  Show: 1.30 PM – 4PM \nFor £40 you get bottomless prosecco 90 minutes from doors opening as well as one of our four delectable hotdogs and the OG Nachos! \n  \nHOW THE GAME WORKS? \nIt’s just like regular bingo\, but instead of shouting out numbers we play songs! Each round takes on a different theme of song choices\, these could be based on either a decade\, genre or a just a quirky random topic. \nThen it’s over to the DJ’s as they spin a quick fire medley of tunes while players simply mark ‘em of their bingo cards accordingly. Prizes are won for one\, two and three lines\, and finally the Grand Prize: The Full House!🃏 \nOh\, and If that wasn’t enough excitement already\, then you can also expect some other little twists along the way\, like the ‘multi choice mystery boxes’. \nWHAT TO EXPECT? \nBANGING TUNES – DANCE OFFS – STAGE CHALLENGES – PRIZES – MYSTERY BOXES – HILARIOUS HOSTS  – CONFETTI SHOWERS – DANCING – SINGING & SO MUCH MORE!! \n  \n
URL:https://musicalbingo.co.uk/index.php/event/musical-bingo-bottomless-brunch-hackney-5/
LOCATION:Dabbers Hackney\, 270 Mare Street\, London\, E8 1HE
ATTACH;FMTTYPE=image/jpeg:https://musicalbingo.co.uk/wp-content/uploads/2021/12/hen-night.jpg
END:VEVENT
END:VCALENDAR